BEGIN:VCALENDAR
VERSION:2.0
PRODID:-//Care Resources - ECPv6.15.12.2//NONSGML v1.0//EN
CALSCALE:GREGORIAN
METHOD:PUBLISH
X-ORIGINAL-URL:https://careresources.org
X-WR-CALDESC:Events for Care Resources
REFRESH-INTERVAL;VALUE=DURATION:PT1H
X-Robots-Tag:noindex
X-PUBLISHED-TTL:PT1H
BEGIN:VTIMEZONE
TZID:America/Detroit
BEGIN:DAYLIGHT
TZOFFSETFROM:-0500
TZOFFSETTO:-0400
TZNAME:EDT
DTSTART:20220313T070000
END:DAYLIGHT
BEGIN:STANDARD
TZOFFSETFROM:-0400
TZOFFSETTO:-0500
TZNAME:EST
DTSTART:20221106T060000
END:STANDARD
BEGIN:DAYLIGHT
TZOFFSETFROM:-0500
TZOFFSETTO:-0400
TZNAME:EDT
DTSTART:20230312T070000
END:DAYLIGHT
BEGIN:STANDARD
TZOFFSETFROM:-0400
TZOFFSETTO:-0500
TZNAME:EST
DTSTART:20231105T060000
END:STANDARD
BEGIN:DAYLIGHT
TZOFFSETFROM:-0500
TZOFFSETTO:-0400
TZNAME:EDT
DTSTART:20240310T070000
END:DAYLIGHT
BEGIN:STANDARD
TZOFFSETFROM:-0400
TZOFFSETTO:-0500
TZNAME:EST
DTSTART:20241103T060000
END:STANDARD
END:VTIMEZONE
BEGIN:VEVENT
DTSTART;TZID=America/Detroit:20231109T123000
DTEND;TZID=America/Detroit:20231109T140000
DTSTAMP:20260419T123606
CREATED:20231101T201614Z
LAST-MODIFIED:20231109T150125Z
UID:10000309-1699533000-1699538400@careresources.org
SUMMARY:Fall Scavenger Hunt
DESCRIPTION:Join us for another fun and exciting scavenger hunt! Fall photos will be placed around the building and participants will be encouraged to find as many photos as possible to win Bingo bucks! \nThis event is open to all participants of Care Resources. Please contact a member of our team for more information or to discuss enrollment in our program. \nPlease note: All activities\, events and other items listed on this calendar are subject to change or cancellation. Prior to attending\, please contact Care Resources to confirm dates and times.
URL:https://careresources.org/event/fall-scavenger-hunt/
LOCATION:Care Resources (Day Room A)\, 4150 Kalamazoo Ave SE\, Grand Rapids\, MI\, 49508\, United States
ATTACH;FMTTYPE=image/jpeg:https://careresources.org/wp-content/uploads/2023/05/cr-placeholder.jpg
END:VEVENT
BEGIN:VEVENT
DTSTART;TZID=America/Detroit:20231109T141500
DTEND;TZID=America/Detroit:20231109T160000
DTSTAMP:20260419T123606
CREATED:20231101T201717Z
LAST-MODIFIED:20231101T201717Z
UID:10000310-1699539300-1699545600@careresources.org
SUMMARY:Thanksgiving Stories
DESCRIPTION:Join other Care Resources participants for this fun activity in Day Room A. \nThis event is open to all participants of Care Resources. Please contact a member of our team for more information or to discuss enrollment in our program. \nPlease note: All activities\, events and other items listed on this calendar are subject to change or cancellation. Prior to attending\, please contact Care Resources to confirm dates and times.
URL:https://careresources.org/event/thanksgiving-stories/
LOCATION:Care Resources (Day Room A)\, 4150 Kalamazoo Ave SE\, Grand Rapids\, MI\, 49508\, United States
ATTACH;FMTTYPE=image/jpeg:https://careresources.org/wp-content/uploads/2023/05/cr-placeholder.jpg
END:VEVENT
END:VCALENDAR